BEGIN:VCALENDAR
VERSION:2.0
PRODID:-//Department Of Education//b74e854b-1b5e-48fb-864b-1893fb411913
BEGIN:VTIMEZONE
TZID:Australia/Sydney
TZURL:http://tzurl.org/zoneinfo-outlook/Australia/Sydney
X-LIC-LOCATION:Australia/Sydney
BEGIN:STANDARD
TZOFFSETFROM:+1100
TZOFFSETTO:+1000
TZNAME:AEST
DTSTART:19700405T030000
RRULE:FREQ=YEARLY;BYMONTH=4;BYDAY=1SU
END:STANDARD
BEGIN:DAYLIGHT
TZOFFSETFROM:+1000
TZOFFSETTO:+1100
TZNAME:AEDT
DTSTART:19701004T020000
RRULE:FREQ=YEARLY;BYMONTH=10;BYDAY=1SU
END:DAYLIGHT
END:VTIMEZONE
CALSCALE:GREGORIAN
X-WR-TIMEZONE:Australia/Sydney
BEGIN:VEVENT
DTSTART;VALUE=DATE:20200302
DTEND;VALUE=DATE:20200303
DTSTAMP:20200302T000000Z
UID:91059520-55ac-4c50-a0aa-518f222808ee
LOCATION:Ropes Crossing Public School and Village Oval
SUMMARY;LANGUAGE=en-us:Stage 1 Sports in Schools
SEQUENCE:0
DESCRIPTION:Stage 1 students will participate in Sports in Schools on Monday 2nd March. Year 2- Morning Session Year 1- Middle Session
END:VEVENT
TRANSP:TRANSPARENT
END:VCALENDAR
